BEGIN:VCALENDAR
VERSION:2.0
PRODID:-//AudioTheme 2.3.1
BEGIN:VEVENT
UID:urn:uuid:653197f0-b96f-4ca1-a398-e25975726292
URL:https://halfpintgrowler.com/gigs/second-street-brewery-rufina-sunday-swing/
DTSTART;TZID=GMT:20240114T200000
SUMMARY:Second Street Brewery Rufina – Sunday Swing
DESCRIPTION:We can't wait to return to Sunday Swing at Second Street Brewery! We'll have the 5-piece on tap for y'all with Bruce Holmes joining us on sax! Bring your happy feet on down!
LOCATION:Second Street Brewery – Rufina Taproom\, 2920 Rufina St.\, Santa Fe\, NM\, USA\, 87507
END:VEVENT
END:VCALENDAR
