BEGIN:VCALENDAR
VERSION:2.0
PRODID:-//AudioTheme 2.3.1
BEGIN:VEVENT
UID:urn:uuid:00fa8c24-af7f-4440-9287-0888198327e3
URL:https://halfpintgrowler.com/gigs/second-street-brewery-rufina-2/
DTSTART;TZID=GMT:20241017T000000
SUMMARY:Second Street Brewery Rufina
DESCRIPTION:We love this venue! Tasty brews\, fantastic menu\, and room to dance. Please join us!
LOCATION:Second Street Brewery – Rufina Taproom\, 2920 Rufina St.\, Santa Fe\, NM\, USA\, 87507
END:VEVENT
END:VCALENDAR
