BEGIN:VCALENDAR
VERSION:2.0
PRODID:-//AudioTheme 2.3.1
BEGIN:VEVENT
UID:urn:uuid:a07e10c9-f69a-4b3b-8046-de4792b7c945
URL:https://halfpintgrowler.com/gigs/santa-fe-teahouse/
DTSTART;TZID=GMT:20250726T210000
SUMMARY:Santa Fe Teahouse + Bistro
DESCRIPTION:We're so excited for our Santa Fe Teahouse debut! Canyon Road is so fun to explore and you'll find the Teahouse menu totally scrumptious. Please join us for this popular patio series!
LOCATION:Santa Fe Teahouse + Bistro\, 821 Canyon Rd #3\, Santa Fe\, NM\, USA\, 87501
END:VEVENT
END:VCALENDAR
