BEGIN:VCALENDAR
VERSION:2.0
PRODID:-//AudioTheme 2.3.1
BEGIN:VEVENT
UID:urn:uuid:30a728b2-983c-4902-8b5f-e00f74cea634
URL:https://halfpintgrowler.com/gigs/santa-fe-teahouse-bistro/
DTSTART;TZID=GMT:20250824T210000
SUMMARY:Santa Fe Teahouse + Bistro
DESCRIPTION:We're back at the lovely Santa Fe's Teahouse. Check out their smashin' menu. Yum! Come on out!
LOCATION:Santa Fe Teahouse + Bistro\, 821 Canyon Rd #3\, Santa Fe\, NM\, USA\, 87501
END:VEVENT
END:VCALENDAR
