BEGIN:VCALENDAR
VERSION:2.0
PRODID:-//AudioTheme 2.3.1
BEGIN:VEVENT
UID:urn:uuid:7256c0d9-3ba3-48f3-97d4-94a730a218bd
URL:https://halfpintgrowler.com/gigs/santa-fe-teahouse-bistro-3/
DTSTART;TZID=GMT:20251005T210000
SUMMARY:Santa Fe Teahouse + Bistro
DESCRIPTION:Hello Balloon Fiesta Folk. Please join us on Canyon Road in Santa Fe for delights for the eyes\, ears\, and mouth! See you there!
LOCATION:Santa Fe Teahouse + Bistro\, 821 Canyon Rd #3\, Santa Fe\, NM\, USA\, 87501
END:VEVENT
END:VCALENDAR
