BEGIN:VCALENDAR
VERSION:2.0
PRODID:-//AudioTheme 2.3.1
BEGIN:VEVENT
UID:urn:uuid:4762b279-1073-4668-ac4c-185d4db049e6
URL:https://halfpintgrowler.com/gigs/santa-fe-teahouse-bistro-2/
DTSTART;TZID=GMT:20250914T210000
SUMMARY:Santa Fe Teahouse + Bistro
DESCRIPTION:It's starting to feel like fall and it's the perfect time to enjoy an afternoon on Canyon Road! Please join us!
LOCATION:Santa Fe Teahouse + Bistro\, 821 Canyon Rd #3\, Santa Fe\, NM\, USA\, 87501
END:VEVENT
END:VCALENDAR
