BEGIN:VCALENDAR
VERSION:2.0
PRODID:-//AudioTheme 2.3.1
BEGIN:VEVENT
UID:urn:uuid:63eb64cb-1701-4f42-a749-d7a8fe60852b
URL:https://halfpintgrowler.com/gigs/santa-fe-film-festival-john-prine-tribute-show-at-tumbleroot-brewery-duo/
DTSTART;VALUE=DATE:20230220
SUMMARY:DUO John Prine Tribute Show at Tumbleroot Brewery (Santa Fe Film Festival)
DESCRIPTION:Ed and Tamra join local musicians to honor John Prine as part of the Santa Fe Film Festival's screening of "Big Old Goofy World: The Story of Oh Boy Records". The night includes an impressive lineup of local talent bringing their unique take on John Prine songs. Please join us! Free show.
LOCATION:Tumbleroot Brewery\, 2791 Agua Fria St.\, Santa Fe\, NM\, 87507
END:VEVENT
END:VCALENDAR
