BEGIN:VCALENDAR
VERSION:2.0
PRODID:-//AudioTheme 2.3.1
BEGIN:VEVENT
UID:urn:uuid:8b6b9837-2c51-4aaa-8c2b-6444df390263
URL:https://halfpintgrowler.com/gigs/santa-fe-brewing-spring-runoff-festival/
DTSTART;TZID=GMT:20230422T230000
SUMMARY:Santa Fe Brewing Spring Runoff Festival
DESCRIPTION:Please join us for Santa Fe Brewing's Second Annual Runoff Festival to support NM Outdoor Recreation! There will be outdoor activities\, tons of live music\, food\, vendors\, raffles\, and more! Admission is a suggested donation and SFBC will be donating all funds raised to local\, outdoor non-profits. HPGs play from 5–6pm! More info here: https://santafebrewing.com/event/spring-runoff-hq-festival/
LOCATION:Santa Fe Brewing Company\, 35 Fire Place\, Santa Fe\, NM\, 87508
END:VEVENT
END:VCALENDAR
