BEGIN:VCALENDAR
VERSION:2.0
PRODID:-//AudioTheme 2.3.1
BEGIN:VEVENT
UID:urn:uuid:8b7fb738-9cf3-41d2-b3da-0175b8711d22
URL:https://halfpintgrowler.com/gigs/santa-fe-brewing-make-music-day-santa-fe/
DTSTART;TZID=GMT:20210621T220000
SUMMARY:Santa Fe Brewing – Make Music Day Santa Fe
DESCRIPTION:We're so excited to participate in International Make Music Day in our new home digs! 
LOCATION:Santa Fe Brewing Company\, 35 Fire Place\, Santa Fe\, NM\, 87508
END:VEVENT
END:VCALENDAR
