BEGIN:VCALENDAR
VERSION:2.0
PRODID:-//AudioTheme 2.3.1
BEGIN:VEVENT
UID:urn:uuid:343af558-c39c-42e4-8cd4-c0f93f6c52f5
URL:https://halfpintgrowler.com/gigs/santa-fe-brewing-hq/
DTSTART;TZID=GMT:20220603T000000
SUMMARY:Santa Fe Brewing HQ
DESCRIPTION:Salud! We're so hoppy to bring the swing to Santa Fe Brewing's HQ Patio! Ease into your weekend early with a cold one and HP&Gs!
LOCATION:Santa Fe Brewing Company\, 35 Fire Place\, Santa Fe\, NM\, 87508
END:VEVENT
END:VCALENDAR
