BEGIN:VCALENDAR
VERSION:2.0
PRODID:-//AudioTheme 2.3.1
BEGIN:VEVENT
UID:urn:uuid:0c680279-cd36-43c3-bfe1-0a0f558e22dd
URL:https://halfpintgrowler.com/gigs/santa-fe-brewing-hq-3/
DTSTART;TZID=GMT:20230421T000000
SUMMARY:Santa Fe Brewing HQ
DESCRIPTION:So glad to be back at Santa Fe Brewing HQ! Please join us!
LOCATION:Santa Fe Brewing Company\, 35 Fire Place\, Santa Fe\, NM\, 87508
END:VEVENT
END:VCALENDAR
