BEGIN:VCALENDAR
VERSION:2.0
PRODID:-//AudioTheme 2.3.1
BEGIN:VEVENT
UID:urn:uuid:e1aa69e3-c86d-4084-8b8b-94fdbed8b49a
URL:https://halfpintgrowler.com/gigs/santa-fe-brewing-hq-2/
DTSTART;TZID=GMT:20221209T010000
SUMMARY:Santa Fe Brewing HQ
DESCRIPTION:We're so excited to return to Santa Fe Brewing's Headquarters! Please join us for their mighty tasty on-tap offerings and our Swing Gumbo.
LOCATION:Santa Fe Brewing Company\, 35 Fire Place\, Santa Fe\, NM\, 87508
END:VEVENT
END:VCALENDAR
