BEGIN:VCALENDAR
VERSION:2.0
PRODID:-//AudioTheme 2.3.1
BEGIN:VEVENT
UID:urn:uuid:5b82e713-82de-45aa-9634-a8f67ea1777b
URL:https://halfpintgrowler.com/gigs/saint-patricks-brewing-company/
DTSTART;TZID=GMT:20170827T200000
SUMMARY:Saint Patrick's Brewing Company
DESCRIPTION:A fundraiser for the Mile High German Shorthair Rescue. Tail-wagging fun right along the S. Platte River!
LOCATION:Saint Patrick's Brewing Co.\, 2842 W Bowles Ave.\, Littleton\, CO\, 80120
END:VEVENT
END:VCALENDAR
