BEGIN:VCALENDAR
VERSION:2.0
PRODID:-//AudioTheme 2.3.1
BEGIN:VEVENT
UID:urn:uuid:2ea3e15e-c265-462b-a3a2-6e54c02a24bc
URL:https://halfpintgrowler.com/gigs/rockabillies/
DTSTART;TZID=GMT:20180825T020000
SUMMARY:Rockabillies
LOCATION:Rockabillies\, 12363 W. 64th Ave.\, Arvada\, CO\, 80004
END:VEVENT
END:VCALENDAR
