BEGIN:VCALENDAR
VERSION:2.0
PRODID:-//AudioTheme 2.3.1
BEGIN:VEVENT
UID:urn:uuid:7b1458ca-e332-4d5e-82c0-3769ecdd0fe0
URL:https://halfpintgrowler.com/gigs/rockabillies-2/
DTSTART;TZID=GMT:20180303T030000
SUMMARY:Rockabillies
LOCATION:Rockabillies\, 12363 W. 64th Ave.\, Arvada\, CO\, 80004
END:VEVENT
END:VCALENDAR
