BEGIN:VCALENDAR
VERSION:2.0
PRODID:-//AudioTheme 2.3.1
BEGIN:VEVENT
UID:urn:uuid:25597eb7-c642-4477-80df-8e39fa3c4872
URL:https://halfpintgrowler.com/gigs/private-event/
DTSTART;TZID=GMT:20220818T220000
SUMMARY:Private Event
DESCRIPTION:Private event. You can have one too! Please contact us.
LOCATION:Private Event\, You can have one too! Please contact us.\, Santa Fe\, NM
END:VEVENT
END:VCALENDAR
