BEGIN:VCALENDAR
VERSION:2.0
PRODID:-//AudioTheme 2.3.1
BEGIN:VEVENT
UID:urn:uuid:75cb6a0b-e3f9-4fd0-8a6d-045fa6e30627
URL:https://halfpintgrowler.com/gigs/private-event-santa-fe-botanical-garden/
DTSTART;TZID=GMT:20220604T000000
SUMMARY:Private Event – Santa Fe Botanical Garden
DESCRIPTION:Santa Fe Botanical Garden Private Event • You can have one\, too. Please contact us!
LOCATION:Private Event\, You can have one too! Please contact us.\, Santa Fe\, NM
END:VEVENT
END:VCALENDAR
