BEGIN:VCALENDAR
VERSION:2.0
PRODID:-//AudioTheme 2.3.1
BEGIN:VEVENT
UID:urn:uuid:f4460d35-7bea-4afc-a4ec-eace616fa45a
URL:https://halfpintgrowler.com/gigs/private-event-duo/
DTSTART;TZID=GMT:20260512T170000
SUMMARY:Private Event (Duo)
LOCATION:Private Event\, You can have one too! Please contact us.\, Santa Fe\, NM
END:VEVENT
END:VCALENDAR
