BEGIN:VCALENDAR
VERSION:2.0
PRODID:-//AudioTheme 2.3.1
BEGIN:VEVENT
UID:urn:uuid:3d31c9b2-80af-4139-89a6-5a079100ef59
URL:https://halfpintgrowler.com/gigs/private-event-8/
DTSTART;TZID=GMT:20220428T220000
SUMMARY:Private Event ~ Duo Performance
DESCRIPTION:Duo Performance Private Event. You can have one too. Please contact us!
LOCATION:Private Event\, You can have one too! Please contact us.\, Santa Fe\, NM
END:VEVENT
END:VCALENDAR
