BEGIN:VCALENDAR
VERSION:2.0
PRODID:-//AudioTheme 2.3.1
BEGIN:VEVENT
UID:urn:uuid:9001c7a2-66ab-4e7a-906c-32def6ece96d
URL:https://halfpintgrowler.com/gigs/private-event-7/
DTSTART;TZID=GMT:20200917T000000
SUMMARY:Private Event
DESCRIPTION:Private Event.  You can have one too! Please contact us.
LOCATION:Denver Botanic Gardens\, 1007 York Street\, Denver\, CO\, 80206
END:VEVENT
END:VCALENDAR
