BEGIN:VCALENDAR
VERSION:2.0
PRODID:-//AudioTheme 2.3.1
BEGIN:VEVENT
UID:urn:uuid:891fae69-c712-4661-89bf-1df7fd27cb79
URL:https://halfpintgrowler.com/gigs/private-event-6/
DTSTART;TZID=GMT:20200912T000000
SUMMARY:Private Event
DESCRIPTION:CANCELED.  Private Event. You can have one too. Please contact us!
LOCATION:Longmont Museum\, 400 Quail Road\, Longmont\, CO\, 80501
END:VEVENT
END:VCALENDAR
