BEGIN:VCALENDAR
VERSION:2.0
PRODID:-//AudioTheme 2.3.1
BEGIN:VEVENT
UID:urn:uuid:ebac9ff6-d8ee-43b3-8e2a-107d7888efa2
URL:https://halfpintgrowler.com/gigs/private-event-5/
DTSTART;TZID=GMT:20170826T230000
SUMMARY:Private Event
LOCATION:Private Event\, You can have one too! Please contact us.\, Santa Fe\, NM
END:VEVENT
END:VCALENDAR
