BEGIN:VCALENDAR
VERSION:2.0
PRODID:-//AudioTheme 2.3.1
BEGIN:VEVENT
UID:urn:uuid:ea9e82ab-63e2-429d-8403-18529127ab3d
URL:https://halfpintgrowler.com/gigs/private-event-4/
DTSTART;VALUE=DATE:20170930
SUMMARY:Private Event
LOCATION:Private Event\, You can have one too! Please contact us.\, Santa Fe\, NM
END:VEVENT
END:VCALENDAR
