BEGIN:VCALENDAR
VERSION:2.0
PRODID:-//AudioTheme 2.3.1
BEGIN:VEVENT
UID:urn:uuid:acb4c1ea-073c-4cc5-8aca-3d9489e663a4
URL:https://halfpintgrowler.com/gigs/private-event-3/
DTSTART;TZID=GMT:20180506T010000
SUMMARY:Private Event
LOCATION:Private Event\, You can have one too! Please contact us.\, Santa Fe\, NM
END:VEVENT
END:VCALENDAR
