BEGIN:VCALENDAR
VERSION:2.0
PRODID:-//AudioTheme 2.3.1
BEGIN:VEVENT
UID:urn:uuid:2265be19-e1d7-408c-a4f2-96c95dca27c4
URL:https://halfpintgrowler.com/gigs/pearl-street-farmers-market/
DTSTART;TZID=GMT:20180729T150000
SUMMARY:Pearl Street Farmer's Market
LOCATION:Pearl Street Farmer's Market\, 1500 Block of South Pearl Street\, Denver\, CO\, 80210
END:VEVENT
END:VCALENDAR
