BEGIN:VCALENDAR
VERSION:2.0
PRODID:-//AudioTheme 2.3.1
BEGIN:VEVENT
UID:urn:uuid:282c74eb-90a2-4799-94f7-1a5c9fa4effe
URL:https://halfpintgrowler.com/gigs/pearl-street-farmers-market-2/
DTSTART;TZID=GMT:20190714T150000
SUMMARY:Pearl Street Farmer's Market
LOCATION:Pearl Street Farmer's Market\, 1500 Block of South Pearl Street\, Denver\, CO\, 80210
END:VEVENT
END:VCALENDAR
