BEGIN:VCALENDAR
VERSION:2.0
PRODID:-//AudioTheme 2.3.1
BEGIN:VEVENT
UID:urn:uuid:5b200eee-4b93-4dc8-b1c2-36967389208c
URL:https://halfpintgrowler.com/gigs/ophelias-electric-soapbox/
DTSTART;TZID=GMT:20190424T021500
SUMMARY:Ophelia's Electric Soapbox
DESCRIPTION:We're beyond excited for this one! Ophelia’s is a fantastic restaurant\, bar\, and live music venue. Plus the boudoir-style décor that honors the building’s past (and Ophelia\, the muse) is a perfect fit for our speakeasy vibe. Please join us for dinner! No Cover.
LOCATION:Ophelia's Electric Soapbox\, 1215 20th Street\, Denver\, CO\, 80202
END:VEVENT
END:VCALENDAR
