BEGIN:VCALENDAR
VERSION:2.0
PRODID:-//AudioTheme 2.3.1
BEGIN:VEVENT
UID:urn:uuid:81140cf8-2dd3-4aaf-a608-9f5f54780d13
URL:https://halfpintgrowler.com/gigs/ophelias-electric-soapbox-2/
DTSTART;TZID=GMT:20200328T163000
SUMMARY:Ophelia's Electric Soapbox CANCELED
DESCRIPTION:CANCELED – STAY TUNED FOR RESCHEDULED DATE  Brunch at Ophelia's is a not-to-be-missed experience! Bottomless mimosas\, lip-smacking menu\, HP&Gs tasty licks. Yea\, swing into your weekend! No Cover.
LOCATION:Ophelia's Electric Soapbox\, 1215 20th Street\, Denver\, CO\, 80202
END:VEVENT
END:VCALENDAR
