BEGIN:VCALENDAR
VERSION:2.0
PRODID:-//AudioTheme 2.3.1
BEGIN:VEVENT
UID:urn:uuid:7f5d8bb7-d93f-435f-b525-24df80599ca8
URL:https://halfpintgrowler.com/gigs/one-epic-night-a-fundraiser-for-swallow-hill-music/
DTSTART;TZID=GMT:20190519T000000
SUMMARY:One Epic Night – A fundraiser for Swallow Hill Music
DESCRIPTION:ONE EPIC NIGHT  A fundraiser filled with music from CO's best blues\, jazz\, bluegrass\, rock\, and folk bands. Food & Bevs included in ticket price!
LOCATION:Swallow Hill Music\, 71 E. Yale Ave\, Denver\, CO\, 80210
END:VEVENT
END:VCALENDAR
