BEGIN:VCALENDAR
VERSION:2.0
PRODID:-//AudioTheme 2.3.1
BEGIN:VEVENT
UID:urn:uuid:ee606f35-47b3-49c2-9921-702e2b266250
URL:https://halfpintgrowler.com/gigs/oktoberfest-at-bohemian-biergarten/
DTSTART;TZID=GMT:20190915T030000
SUMMARY:Oktoberfest at Bohemian Biergarten
DESCRIPTION:We're bringing our swing thing to this Czech-style pub's Oktoberfest – Prost!
LOCATION:Bohemian Biergarten\, 2017 13th St on the Pearl Street Mall\, Boulder\, CO\, 80302
END:VEVENT
END:VCALENDAR
