BEGIN:VCALENDAR
VERSION:2.0
PRODID:-//AudioTheme 2.3.1
BEGIN:VEVENT
UID:urn:uuid:96aedb3d-21c6-491a-a53c-a254c1b912b8
URL:https://halfpintgrowler.com/gigs/oasis-brewing-company/
DTSTART;TZID=GMT:20190203T033000
SUMMARY:Oasis Brewing Company
DESCRIPTION:No Cover
LOCATION:Oasis Brewing Company\, 3257 Lowell Blvd\, Denver\, CO\, 80211
END:VEVENT
END:VCALENDAR
