BEGIN:VCALENDAR
VERSION:2.0
PRODID:-//AudioTheme 2.3.1
BEGIN:VEVENT
UID:urn:uuid:d0e18ad3-702b-4e87-972c-2ecf30e64c6e
URL:https://halfpintgrowler.com/gigs/nye-early-kick-up-your-heels-at-the-cowgirl-bbq/
DTSTART;TZID=GMT:20231231T230000
SUMMARY:NYE Early! Kick up your heels at the Cowgirl BBQ!
DESCRIPTION:Come celebrate NYE early with HPGs! 
LOCATION:Cowgirl BBQ\, 319 S Guadalupe St\, Santa Fe\, NM\, 87501
END:VEVENT
END:VCALENDAR
