BEGIN:VCALENDAR
VERSION:2.0
PRODID:-//AudioTheme 2.3.1
BEGIN:VEVENT
UID:urn:uuid:506daebc-0e30-4c06-9bdf-d44fc6a350e3
URL:https://halfpintgrowler.com/gigs/new-years-eve-at-eldorado-taproom-santa-fe-brewing-co/
DTSTART;TZID=GMT:20230101T053000
SUMMARY:New Year's Eve at Eldorado Taproom Santa Fe Brewing Co.
DESCRIPTION:Please join us for New Year's Eve in our own backyard! We'll be playing as a duo from 10:30pm–12:30am ringing in the New Year and sharing a cup of cheer!
LOCATION:Santa Fe Brewing Eldorado Taphouse\, La Tienda at Eldorado 7 Caliente Rd.\, Santa Fe\, NM\, USA\, 87508
END:VEVENT
END:VCALENDAR
