BEGIN:VCALENDAR
VERSION:2.0
PRODID:-//AudioTheme 2.3.1
BEGIN:VEVENT
UID:urn:uuid:97f402ad-bde7-4d2a-ad86-b06b177cfaf6
URL:https://halfpintgrowler.com/gigs/new-terrain-brewing/
DTSTART;TZID=GMT:20190308T010000
SUMMARY:New Terrain Brewing
DESCRIPTION:No Cover
LOCATION:New Terrain Brewing\, 16401 Table Mountain Parkway\, Golden\, CO\, 80403
END:VEVENT
END:VCALENDAR
