BEGIN:VCALENDAR
VERSION:2.0
PRODID:-//AudioTheme 2.3.1
BEGIN:VEVENT
UID:urn:uuid:259f305e-5b44-4ba0-9632-ea3f32626861
URL:https://halfpintgrowler.com/gigs/new-terrain-brewing-2/
DTSTART;TZID=GMT:20200103T010000
SUMMARY:New Terrain Brewing
DESCRIPTION:We love New Terrain! Start your new year off right with Music by the Mesa!
LOCATION:New Terrain Brewing\, 16401 Table Mountain Parkway\, Golden\, CO\, 80403
END:VEVENT
END:VCALENDAR
