BEGIN:VCALENDAR
VERSION:2.0
PRODID:-//AudioTheme 2.3.1
BEGIN:VEVENT
UID:urn:uuid:6b7a7728-a791-4eb0-b1f7-6bbd94b25f2b
URL:https://halfpintgrowler.com/gigs/movies-music-in-the-park/
DTSTART;TZID=GMT:20190803T010000
SUMMARY:Movies & Music in the Park
DESCRIPTION:Join us for Movies & Music in the Park in beautiful downtown Golden!
LOCATION:Movies & Music in the Park\, Parfet Park 701 10th Street\, Golden\, CO\, 80401
END:VEVENT
END:VCALENDAR
