BEGIN:VCALENDAR
VERSION:2.0
PRODID:-//AudioTheme 2.3.1
BEGIN:VEVENT
UID:urn:uuid:6503bad8-d643-457f-9006-6fc2eed2c681
URL:https://halfpintgrowler.com/gigs/mine-shaft-catina/
DTSTART;TZID=GMT:20230514T210000
SUMMARY:Mine Shaft Cantina
DESCRIPTION:Sundays in May are made for the Mine Shaft Cantina deck! We can't wait to return to Madrid!
LOCATION:The Mine Shaft Tavern & Cantina\, 2846 NM-14\, Madrid\, NM\, 87010
END:VEVENT
END:VCALENDAR
