BEGIN:VCALENDAR
VERSION:2.0
PRODID:-//AudioTheme 2.3.1
BEGIN:VEVENT
UID:urn:uuid:98234dfd-0ea9-4b83-86a9-cb415aa9409f
URL:https://halfpintgrowler.com/gigs/malelani-cafe/
DTSTART;TZID=GMT:20200411T230000
SUMMARY:Malelani Cafe
DESCRIPTION:CANCELED  Ed returns to his native roots! Join us for a duo show as we support Philly's own Casual Fantastic at this sweet cafe and live music spot in Germantown's Mt. Airy.
LOCATION:Malelani Cafe\, 6734 Germantown Ave.\, Philadelphia\, PA\, 19119
END:VEVENT
END:VCALENDAR
