BEGIN:VCALENDAR
VERSION:2.0
PRODID:-//AudioTheme 2.3.1
BEGIN:VEVENT
UID:urn:uuid:fa93cd65-5013-4768-82f0-daf8911ef694
URL:https://halfpintgrowler.com/gigs/los-alamos-sciencefest-2023-closing-party/
DTSTART;TZID=GMT:20230719T000000
SUMMARY:Los Alamos ScienceFest 2023 Closing Party
DESCRIPTION:We're bring our high-energy swing gumbo to ScienceFest 2023! Please join us for from 6–8pm at Central Park Square in Los Alamos! Boom!
LOCATION:Central Park Square\, Los Alamos\, NM\, 87544
END:VEVENT
END:VCALENDAR
