BEGIN:VCALENDAR
VERSION:2.0
PRODID:-//AudioTheme 2.3.1
BEGIN:VEVENT
UID:urn:uuid:ff60b4dc-bc40-4c77-97bf-38bee1e5d2f3
URL:https://halfpintgrowler.com/gigs/longmont-winter-walkabout-music-showcase/
DTSTART;TZID=GMT:20200202T030000
SUMMARY:Longmont Winter Walkabout Music Showcase
DESCRIPTION:We're so excited to bring our bohemian swing to the Jazz/Gypsy Jazz Stage at the Winter Walkabout Music Showcase! 52 performances | 17 Venues | One day | One Ticket. Get your ticket at downtownlongmont.com
LOCATION:Longmont Winter Walkabout Music Showcase\, La Vita Bella Jazz Stage 471 Main St\, Longmont\, CO\, 80501
END:VEVENT
END:VCALENDAR
