BEGIN:VCALENDAR
VERSION:2.0
PRODID:-//AudioTheme 2.3.1
BEGIN:VEVENT
UID:urn:uuid:e0801186-d358-477f-b684-3d012870954d
URL:https://halfpintgrowler.com/gigs/local-46/
DTSTART;TZID=GMT:20181117T043000
SUMMARY:Local 46
DESCRIPTION:One of our favorite venues! No cover.
LOCATION:Local 46\, 4586 Tennyson Street\, Denver\, CO\, 80212
END:VEVENT
END:VCALENDAR
