BEGIN:VCALENDAR
VERSION:2.0
PRODID:-//AudioTheme 2.3.1
BEGIN:VEVENT
UID:urn:uuid:0f8fa06a-7940-469a-9014-eb2f896068d0
URL:https://halfpintgrowler.com/gigs/local-46-2/
DTSTART;TZID=GMT:20180210T043000
SUMMARY:Local 46
DESCRIPTION:Our Local 46 Debut! Please join us.
LOCATION:Local 46\, 4586 Tennyson Street\, Denver\, CO\, 80212
END:VEVENT
END:VCALENDAR
