BEGIN:VCALENDAR
VERSION:2.0
PRODID:-//AudioTheme 2.3.1
BEGIN:VEVENT
UID:urn:uuid:47ddddfa-7171-4546-a495-d94357cb0cc2
URL:https://halfpintgrowler.com/gigs/littleton-museum-summer-concert-series/
DTSTART;TZID=GMT:20200625T003000
SUMMARY:Littleton Museum Summer Concert Series
DESCRIPTION:CANCELED.   Please check back for a rescheduled 2021 date.
LOCATION:Littleton Museum Summer Concert Series\, 6028 S Gallup St.\, Littleton\, CO\, 80120
END:VEVENT
END:VCALENDAR
