BEGIN:VCALENDAR
VERSION:2.0
PRODID:-//AudioTheme 2.3.1
BEGIN:VEVENT
UID:urn:uuid:d21b5413-df0c-42ed-a477-d1bc4a79e84d
URL:https://halfpintgrowler.com/gigs/last-stand-tavern/
DTSTART;TZID=GMT:20180922T220000
SUMMARY:Last Stand Tavern
DESCRIPTION:An Oktoberfest celebration and fundraiser for Coal Creek Firefighters.
LOCATION:Last Stand Tavern\, 32138 Highway 72 Coal Creek Canyon Road\, Golden\, CO\, 80403
END:VEVENT
END:VCALENDAR
