BEGIN:VCALENDAR
VERSION:2.0
PRODID:-//AudioTheme 2.3.1
BEGIN:VEVENT
UID:urn:uuid:fe8d4e26-ddea-4245-9c6c-d4afb97be561
URL:https://halfpintgrowler.com/gigs/last-stand-tavern-3/
DTSTART;TZID=GMT:20190824T220000
SUMMARY:Last Stand Tavern
DESCRIPTION:Head for the hills after the Colorado Classic bike race! We're bringing our swing thing to the sweet patio at Last Stand Tavern. Cooler temps\, great beer selection\, and hearty fare. Please join us!
LOCATION:Last Stand Tavern\, 32138 Highway 72 Coal Creek Canyon Road\, Golden\, CO\, 80403
END:VEVENT
END:VCALENDAR
