BEGIN:VCALENDAR
VERSION:2.0
PRODID:-//AudioTheme 2.3.1
BEGIN:VEVENT
UID:urn:uuid:32570a77-7206-48ab-a0f4-0b08e72dcdba
URL:https://halfpintgrowler.com/gigs/last-stand-tavern-2/
DTSTART;TZID=GMT:20190706T220000
SUMMARY:Last Stand Tavern
DESCRIPTION:Head to the hills and help us celebrate the long weekend! 
LOCATION:Last Stand Tavern\, 32138 Highway 72 Coal Creek Canyon Road\, Golden\, CO\, 80403
END:VEVENT
END:VCALENDAR
