BEGIN:VCALENDAR
VERSION:2.0
PRODID:-//AudioTheme 2.3.1
BEGIN:VEVENT
UID:urn:uuid:9f0c151e-b97f-40e5-b45e-1522fbd22946
URL:https://halfpintgrowler.com/gigs/lamar-street-center/
DTSTART;TZID=GMT:20180928T000000
SUMMARY:Lamar Street Center
DESCRIPTION:Stouts & Stories\, Ales & Tales – a fundraiser for the Jefferson County Library Foundation
LOCATION:Lamar Street Center\, 5889 Lamar Street\, Arvada\, CO\, 80003
END:VEVENT
END:VCALENDAR
