BEGIN:VCALENDAR
VERSION:2.0
PRODID:-//AudioTheme 2.3.1
BEGIN:VEVENT
UID:urn:uuid:1d2b6fdc-80fa-4190-903f-acd517541197
URL:https://halfpintgrowler.com/gigs/lamar-street-center-2/
DTSTART;TZID=GMT:20171012T000000
SUMMARY:Lamar Street Center
DESCRIPTION:Yes! Beers & Books\, two of our favorite things. Help us kick off Stouts & Stories\, Ales & Tales – a fundraiser for the Jefferson County Library Foundation.
LOCATION:Lamar Street Center\, 5889 Lamar Street\, Arvada\, CO\, 80003
END:VEVENT
END:VCALENDAR
