BEGIN:VCALENDAR
VERSION:2.0
PRODID:-//AudioTheme 2.3.1
BEGIN:VEVENT
UID:urn:uuid:e1eadbd5-59fb-47c1-ab69-b8899e5c05e2
URL:https://halfpintgrowler.com/gigs/la-reina-at-el-rey-court/
DTSTART;TZID=GMT:20260115T030000
SUMMARY:La Reina at El Rey Court
DESCRIPTION:Join us on old Route 66 at La Reina at El Rey Court. This bright and airy mezcal + tequila-focused bar has something for every palate. We have the trio on tap for you serving a tasty side of our swing gumbo! Swing on by!
LOCATION:El Rey Court\, 1862 Cerrillos Rd\, Santa Fe\, NM\, USA\, 87505
END:VEVENT
END:VCALENDAR
