BEGIN:VCALENDAR
VERSION:2.0
PRODID:-//AudioTheme 2.3.1
BEGIN:VEVENT
UID:urn:uuid:74310f03-1f4d-411d-930d-d2d3aad3efa0
URL:https://halfpintgrowler.com/gigs/klines-beer-hall-2/
DTSTART;TZID=GMT:20190407T010000
SUMMARY:Kline's Beer Hall
DESCRIPTION:Join us for an incredible beer selection\, house-made brats\, and tasty tunes! No Cover.
LOCATION:Kline's Beer Hall\, 7519 Grandview Ave\, Arvada\, CO\, 80002
END:VEVENT
END:VCALENDAR
